BEGIN:VCALENDAR
VERSION:2.0
PRODID:-//ChamberMaster//Event Calendar 2.0//EN
METHOD:PUBLISH
X-PUBLISHED-TTL:P3D
REFRESH-INTERVAL:P3D
CALSCALE:GREGORIAN
BEGIN:VEVENT
DTSTART;VALUE=DATE:20130315
DTEND;VALUE=DATE:20130316
TRANSP:TRANSPARENT
X-MICROSOFT-CDO-ALLDAYEVENT:TRUE
SUMMARY:“Or Approved Equal” – A Vendor’s Perspective – Water Quality Manholes
DESCRIPTION:Phillip Taylor of Hydro International
X-ALT-DESC;FMTTYPE=text/html:Phillip Taylor of Hydro International
LOCATION:Marriott Minneapolis West Minnetonka
UID:e.9128.150
SEQUENCE:3
DTSTAMP:20260426T043016Z
URL:http://cecm.memberzone.com/events/details/or-approved-equal-a-vendor-s-perspective-water-quality-manholes-03-15-2013-150
END:VEVENT

END:VCALENDAR
