BEGIN:VCALENDAR
VERSION:2.0
PRODID:-//ChamberMaster//Event Calendar 2.0//EN
METHOD:PUBLISH
X-PUBLISHED-TTL:P3D
REFRESH-INTERVAL:P3D
CALSCALE:GREGORIAN
BEGIN:VEVENT
DTSTART:20190205T133000Z
DTEND:20190205T160000Z
X-MICROSOFT-CDO-ALLDAYEVENT:FALSE
SUMMARY:Own Your Leadership Journey
DESCRIPTION:Effectively managing and leading project teams is crucial to successfully delivering engineering projects\; however\, the skills neccessary to accomplish this are rarely taught in a traditional engineering education. This workshop series aims to provide participants with the knowledge and tools to improve their abilities to delegate\, oversee the work of others\, and budget resources to promote efficient team performance. Hands on activities and role playing will be incorporated in the sessions to facilitate the transplantationof new skills to the workplace. Enterprise level topics including strategic planning\, finances\, and human resources will also be covered to help participants understand how they can positively impact global firm operations.\n\n\n\nThis leadership program is targeted towards engineers who are gaining responsibility for managing projects and leading small teams. Participants will be expected to attend all sessions and embrace a collaborative commitment to improving leadership in the engineering community.\n\n\n\nInstructor:\n\nCourses will be taught by University of St. Thomas  professors including the series' main instructor\, Dr. Nicole Zwieg Daly. As Director for Education & Programming at the Center for Etical Organizations at the University of St. Thomas Opus College of Business. Nicole earned her B.A. from the UNiveristy of St. St. Thomas (UST) with a double-major in Business Management and Journalism-Public Relations. In 2018\, she earned her doctorate degree in Organization Development & Change frome UST. Nicole has nearly 20 years of business management\, relationship management\, and organization development experience. Full bio here.\n\n\n\nParking:\n\nHarmon Ramp\n\n25 South 11th Street (Entrance/exit on 11th Avenue)\n\nMinneapolis\, MN 55403\n\n\n\nThe Harmon Ramp is connected to UST campus by skyway. Parking vouchers will be avaialble for workship participants.\n\n\n\nWorkshop Schedule:\n\nFebruary 5: Management vs. Leadership\n\nMarch 5: Soft Skills: Not for the Light-Hearted\n\nApril 2: Uncouncscious Bias\n\nMay 7: Engineering Ingenuity & The Law\n\nJune 4: Effective Delegation & Empowerment = High Collaborative Culture\n\nJuly 9: What Really Is Stratgic Planning?\n\nAugust 6: Business Operations\n\nSeptember 3: Thinking Ahead: Are You Positioning Yourself for Where You Want to Be?\n\nOctober 1: How to Effectively Influence Behavior\n\nNovember 5: Professional Development: The Finished Project\n\nDecember 3: Reflection & Reaction: What's Next?\n\n\n\n**For full workshop flyer that includes descriptions for each session\, click here.
X-ALT-DESC;FMTTYPE=text/html:<span style="font-size:14px\;">Effectively managing and leading project teams is crucial to successfully delivering engineering projects\; however\, the skills neccessary to accomplish this are rarely taught in a traditional engineering education. This workshop series aims to provide participants with the knowledge and tools to improve their abilities to delegate\, oversee the work of others\, and budget resources to promote efficient team performance. Hands on activities and role playing will be incorporated in the sessions to facilitate the transplantationof new skills to the workplace. Enterprise level topics including strategic planning\, finances\, and human resources will also be covered to help participants understand how they can positively impact global firm operations.<br />\n<br />\nThis leadership program is targeted towards engineers who are gaining responsibility for managing projects and leading small teams. Participants will be expected to attend all sessions and embrace a collaborative commitment to improving leadership in the engineering community.<br />\n<br />\n<u>Instructor:</u><br />\nCourses will be taught by University of St. Thomas&nbsp\; professors including the series&#39\; main instructor\, Dr. Nicole Zwieg Daly. As Director for Education &amp\; Programming at the Center for Etical Organizations at the&nbsp\;</span><span style="font-size:14px\;">University of St. Thomas&nbsp\;Opus College of Business. Nicole earned her B.A. from the UNiveristy of St. St. Thomas (UST) with a double-major in Business Management and Journalism-Public Relations. In 2018\, she earned her doctorate degree in Organization Development &amp\; Change frome UST. Nicole has nearly 20 years of business management\, relationship management\, and organization development experience. <a href="https://wordpressstorageaccount.blob.core.windows.net/wp-media/wp-content/uploads/sites/649/2018/10/Dr.-Nicole-Zwieg-Daly-Bio.pdf">Full bio here.</a><br />\n<br />\n<u>Parking:</u><br />\nHarmon Ramp<br />\n<a href="https://www.google.com/maps/place/25+S+11th+St\,+Minneapolis\,+MN+55403/@44.9744337\,-93.2807937\,17z/data=!3m1!4b1!4m5!3m4!1s0x52b33294f860a467:0x2c1a475884952bc6!8m2!3d44.9744337!4d-93.278605">25 South 11th Street </a>(Entrance/exit on 11th Avenue)<br />\nMinneapolis\, MN 55403<br />\n<br />\nThe Harmon Ramp is connected to UST campus by skyway. Parking vouchers will be avaialble for workship participants.<br />\n<br />\n<u>Workshop Schedule:</u><br />\n<strong>February 5:</strong> Management vs. Leadership<br />\n<strong>March 5:</strong> Soft Skills: Not for the Light-Hearted<br />\n<strong>April 2:</strong> Uncouncscious Bias<br />\n<strong>May 7:</strong>&nbsp\;Engineering Ingenuity &amp\; The Law<br />\n<strong>June 4:</strong> Effective Delegation &amp\; Empowerment = High Collaborative Culture<br />\n<strong>July 9:</strong> What Really Is Stratgic Planning?<br />\n<strong>August 6:</strong> Business Operations<br />\n<strong>September 3:</strong> Thinking Ahead: Are You Positioning Yourself for Where You Want to Be?<br />\n<strong>October 1: </strong>How to Effectively Influence Behavior<br />\n<strong>November 5: </strong>Professional Development: The Finished Project<br />\n<strong>December 3:</strong> Reflection &amp\; Reaction: What&#39\;s Next?</span><br />\n<br />\n<strong><span style="font-size:14px\;">**For full workshop flyer that includes descriptions for each session\, <a href="https://wordpressstorageaccount.blob.core.windows.net/wp-media/wp-content/uploads/sites/649/2018/10/ACEC-MN-Leadership-Series-Trifold_2019_FINAL.pdf">click here</a>.</span></strong>
LOCATION:University of St. Thomas Minneapolis Campus 1000 LaSalle Avenue Minneapolis\, MN 55403
UID:e.9128.1313
SEQUENCE:3
DTSTAMP:20260420T001639Z
URL:http://cecm.memberzone.com/events/details/own-your-leadership-journey-1313
END:VEVENT

END:VCALENDAR
