BEGIN:VCALENDAR
VERSION:2.0
PRODID:-//ChamberMaster//Event Calendar 2.0//EN
METHOD:PUBLISH
X-PUBLISHED-TTL:P3D
REFRESH-INTERVAL:P3D
CALSCALE:GREGORIAN
BEGIN:VEVENT
DTSTART:20180216T173000Z
DTEND:20180216T190000Z
X-MICROSOFT-CDO-ALLDAYEVENT:FALSE
SUMMARY:Prinsco's Stormwater Storage & Infiltration Solutions
DESCRIPTION:Underground stormwater storage solutions are becoming more and more desirable with the increasing value of commercially developed land. Prinsco will provide an overview of the design and installation of the underground HydroStor stormwater chamber system at the Cerebral Palsy Aquatic Center in Allouez\, WI.  \n\n\n\nTopics that will be discussed include:\n\n	Product capabilities and features\n	Modeling and sizing of underground storage system\n	Chamber system design and layout overview\n	Installation requirements including excavation\, foundation\, placement\, backfilling and compaction\n	Service life and maintenance requirements\n\n \n\nPrinsco is a manufacturer of corrugated HDPE and PP pipe with a focus on providing stormwater management solutions as well as serving the agricultural and residential drainage industries.  \n\n \n\nSpeaker bio:  Samantha Byer is an Application Engineer at Prinsco. She has been part of the Prinsco family for 2 years providing technical/design support the commercial/residential stormwater market. Samantha received her degree in Agricultural and Biosystems Engineering at North Dakota State University.\n\n \n\nJason Ahrenholz\, P.E. is an Engineering Manager for Prinsco with over 8 years in the Civil/Construction Industry.  Jason's area of focus is structural and hydraulic performance analysis of buried structures.
X-ALT-DESC;FMTTYPE=text/html:<span style="font-family:arial\,sans-serif\;"><span style="font-size:10.0pt\;">Underground stormwater storage solutions are becoming more and more desirable with the increasing value of commercially developed land. Prinsco will provide an overview of the design and installation of the underground HydroStor stormwater chamber system at the Cerebral Palsy Aquatic Center in Allouez\, WI. &nbsp\;<br />\n<br />\nTopics that will be discussed include:</span></span>\n<ul>\n	<li><span style="font-family:arial\,sans-serif\;"><span style="font-size:10.0pt\;">Product capabilities and features</span></span></li>\n	<li><span style="font-family:arial\,sans-serif\;"><span style="font-size:10.0pt\;">Modeling and sizing of underground storage system</span></span></li>\n	<li><span style="font-family:arial\,sans-serif\;"><span style="font-size:10.0pt\;">Chamber system design and layout overview</span></span></li>\n	<li><span style="font-family:arial\,sans-serif\;"><span style="font-size:10.0pt\;">Installation requirements including excavation\, foundation\, placement\, backfilling and compaction</span></span></li>\n	<li><span style="font-family:arial\,sans-serif\;"><span style="font-size:10.0pt\;">Service life and maintenance requirements</span></span></li>\n</ul>\n&nbsp\;<br />\n<span style="font-family:arial\,sans-serif\;"><span style="font-size:10.0pt\;">Prinsco is a manufacturer of corrugated HDPE and PP pipe with a focus on providing stormwater management solutions as well as serving the agricultural and residential drainage industries.&nbsp\; </span></span><br />\n&nbsp\;<br />\n<strong><span style="font-family:arial\,sans-serif\;"><span style="font-size:10.0pt\;">Speaker bio: &nbsp\;</span></span></strong><span style="font-family:arial\,sans-serif\;"><span style="font-size:10.0pt\;">Samantha Byer is an Application Engineer at Prinsco. She has been part of the Prinsco family for 2 years providing technical/design support the commercial/residential stormwater market. Samantha received her degree in Agricultural and Biosystems Engineering at North Dakota State University.</span></span><br />\n&nbsp\;<br />\n<span style="font-family:arial\,sans-serif\;"><span style="font-size:10.0pt\;">Jason Ahrenholz\, P.E. is an Engineering Manager for Prinsco with over </span></span><span style="color:windowtext\;"><span style="font-family:arial\,sans-serif\;"><span style="font-size:10.0pt\;">8</span></span></span><span style="font-family:arial\,sans-serif\;"><span style="font-size:10.0pt\;"> years in the Civil/Construction Industry.&nbsp\; Jason&rsquo\;s area of focus is structural and hydraulic performance analysis of buried structures.</span></span><br />\n&nbsp\;&nbsp\;
LOCATION:Marriott Minneapolis West 9960 Wayzata Blvd\, MN Minnetonka (952/544-4400) (Located on the north frontage road of I-394 between Hwy 169 & Hopkins Crossroad directly across from the ACEC/MN office)
UID:e.9128.1259
SEQUENCE:3
DTSTAMP:20260421T003950Z
URL:http://cecm.memberzone.com/events/details/prinsco-s-stormwater-storage-infiltration-solutions-1259
END:VEVENT

END:VCALENDAR
