BEGIN:VCALENDAR
VERSION:2.0
PRODID:-//ChamberMaster//Event Calendar 2.0//EN
METHOD:PUBLISH
X-PUBLISHED-TTL:P3D
REFRESH-INTERVAL:P3D
CALSCALE:GREGORIAN
BEGIN:VEVENT
DTSTART:20140113T173000Z
DTEND:20140113T193000Z
X-MICROSOFT-CDO-ALLDAYEVENT:FALSE
SUMMARY:Regulation and Enforcement: Changes and Process (AELSLSAGID)
DESCRIPTION:The board of AELSLSAGID is our profession's traffic cop and protector of the public. If you have read the board's "Communicator" in recent years\, you know that they have been very active in enforcing the law and handing down fines. Doreen Frost\, Executive Director of the Board will address the complaint process\, what to expect when one is filed and how to file a complaint when you become aware of a violation of the law. She will also discuss legislation the board will be introducing (which includes a requirement of two hours of ethics training every two years) this coming legislative session\, their ongoing continuing education requirements and the board's audit process\, and the upcoming renewal process and how it will be conducted in 2014.  She will also take your questions. \n\n	\n\n	Presenter: Doreen Frost has over a decade of experience as the Executive Director of the Minnesota Board of Architecture\, Engineering\, Land Surveying\, Landscape Architecture\, Geoscience\, and Interior Design. Ms. Frost also serves as the Executive Director of the Minnesota Board of Accountancy. In addition to her board-level responsibilities\, Ms. Frost has served on numerous committees for the national councils of the eight professions regulated by the Boards and\, currently\, the NCEES Member Board Executive Committee. Ms. Frost is passionate about the value of regulated professions and the enforcement of licensure statutes and rules.
X-ALT-DESC;FMTTYPE=text/html:<div>\n	The board of AELSLSAGID is our profession&rsquo\;s traffic cop and protector of the public. If you have read the board&rsquo\;s &ldquo\;Communicator&rdquo\; in recent years\, you know that they have been very active in enforcing the law and handing down fines. Doreen Frost\, Executive Director of the Board will address the complaint process\, what to expect when one is filed and how to file a complaint when you become aware of a violation of the law. She will also discuss legislation the board will be introducing (which includes a requirement of two hours of ethics training every two years) this coming legislative session\, their ongoing continuing education requirements and the board&rsquo\;s audit process\, and the upcoming renewal process and how it will be conducted in 2014. &nbsp\;She will also take your questions.&nbsp\;<br />\n	<br />\n	Presenter: Doreen Frost has over a decade of experience as the Executive Director of the Minnesota Board of Architecture\, Engineering\, Land Surveying\, Landscape Architecture\, Geoscience\, and Interior Design. Ms. Frost also serves as the Executive Director of the Minnesota Board of Accountancy. In addition to her board-level responsibilities\, Ms. Frost has served on numerous committees for the national councils of the eight professions regulated by the Boards and\, currently\, the NCEES Member Board Executive Committee. Ms. Frost is passionate about the value of regulated professions and the enforcement of licensure statutes and rules.</div>\n<div>\n	&nbsp\;</div>\n
LOCATION:Marriott Minneapolis West 9960 Wayzata Blvd\, Minnetonka\, MN (952/544-4400) (Located on the north frontage road of I-394 between Hwy 169 & Hopkins Crossroad directly across from the ACEC/MN office)
UID:e.9128.846
SEQUENCE:3
DTSTAMP:20260425T040835Z
URL:http://cecm.memberzone.com/events/details/regulation-and-enforcement-changes-and-process-aelslsagid-01-13-2014-846
END:VEVENT

END:VCALENDAR
