BEGIN:VCALENDAR
VERSION:2.0
PRODID:-//ChamberMaster//Event Calendar 2.0//EN
METHOD:PUBLISH
X-PUBLISHED-TTL:P3D
REFRESH-INTERVAL:P3D
CALSCALE:GREGORIAN
BEGIN:VEVENT
DTSTART:20180409T163000Z
DTEND:20180409T183000Z
X-MICROSOFT-CDO-ALLDAYEVENT:FALSE
SUMMARY:Regulatory Update from Minnesota Board of AELSLAGID
DESCRIPTION:Minnesota's board of AELSLAGID plays an important role in regulating design professions and protecting the public. With 24 hours of continuing education due by June 30\, 2018\, this is a great opportunity to receive an hour of continuing education while learning whether or not you are properly meeting this requirement. \n\n\n\nAttendees will also get an update on recent actions by the board that are affecting your professional practice\, including rule changes that will be going into effect\, enforcement actions\, and a "sneak peak" into our exciting changes to examination and application procedures that attendees will be able to report to their firms (i.e. direct registration for exams and online initial applications).\n\n\n\nPresenters: Andrea Barker\, Assistant Executive Director\; Matt Kaehler\, Investigator\; and Dave Blume\, Board member.
X-ALT-DESC;FMTTYPE=text/html:<span style="font-size:14px\;"><span style="color:black\;"><span style="font-family:arial\,sans-serif\;">Minnesota&rsquo\;s board of AELSLAGID plays an important role in regulating design professions and protecting the public. With 24 hours of continuing education due by June 30\, 2018\, this is a great opportunity to receive an hour of continuing education while learning whether or not you are properly meeting this requirement. </span></span><br />\n<br />\n<span style="color:black\;"><span style="font-family:arial\,sans-serif\;">Attendees will also get an update on recent actions by the board that are affecting your professional practice\, including rule changes that will be going into effect\, enforcement actions\, and a &ldquo\;sneak peak&rdquo\; into our exciting changes to examination and application procedures that attendees will be able to report to their firms (i.e. direct registration for exams and online initial applications).</span></span><br />\n<br />\n<strong><span style="color:black\;"><span style="font-family:arial\,sans-serif\;">Presenters: </span></span></strong><span style="color:black\;"><span style="font-family:arial\,sans-serif\;">Andrea Barker\, </span></span><span style="color:black\;"><span style="font-family:arial\,sans-serif\;">Assistant Executive Director\; Matt Kaehler\, Investigator\; and Dave Blume\, Board member.</span></span></span><br />\n&nbsp\;
LOCATION:Marriott Minneapolis West 9960 Wayzata Blvd.\, Minnetonka\, MN (952/544-4400) (Located on the north frontage road of I-394 between Hwy 169 & Hopkins Crossroad directly across from the ACEC/MN office)
UID:e.9128.1270
SEQUENCE:3
DTSTAMP:20260420T230658Z
URL:http://cecm.memberzone.com/events/details/regulatory-update-from-minnesota-board-of-aelslagid-1270
END:VEVENT

END:VCALENDAR
