BEGIN:VCALENDAR
VERSION:2.0
PRODID:-//ChamberMaster//Event Calendar 2.0//EN
METHOD:PUBLISH
X-PUBLISHED-TTL:P3D
REFRESH-INTERVAL:P3D
CALSCALE:GREGORIAN
BEGIN:VEVENT
DTSTART:20161216T173000Z
DTEND:20161216T190000Z
X-MICROSOFT-CDO-ALLDAYEVENT:FALSE
SUMMARY:Repair of Wet or Leaking Cracks in Concrete with Polyurethane Injection Expansion Resins
DESCRIPTION:If you work with concrete\, you know that cracks are a fact of life. Cracks in concrete can appear in slabs\, walls\, or beams. Although they can be harmless\, some cracks can lead to other\, larger problems unless they are repaired. This is especially the case when there is water present. A solution for repairing wet or leaking cracks is to inject with polyurethane expansion resins\, or sometimes referred to as chemical grouts. For years now\, polyurethane grouts have been used to seal cracks in potable water tanks\, waste water treatment plants\, below grade walls\, large diameter pipes\, floors\, dams\, elevator pits\, and swimming pools. While the use of these materials in the construction community is becoming more common\, there are still many engineers\, contractors\, and owners seeking additional information about them.\n\n\n\nThis presentation will be focused on the following topics:\n\n\n	Advantages of Polyurethane Expansion Resins versus Conventional Repairs\n	Types of Polyurethane Expansion Resins\n	Material Properties and Advantages\n	Potential Uses\n	Installation Procedures\n	Project Profiles and Examples\n	No-Cost Technical Services\n\nSpeaker: H. Michael Simpson has spent the past 45 year (40 years with Fox Industries\, Inc. and 5 years with Simpson Strong-Tie) working with contractors\, engineers\, and owners on specifications\, along with on-site training in the use of the expandable polyurethane resins to seal active water leaks\, stabilize surrounding soil\, and prevent leakage in the future. \n\n\n\nThis program is free to ACEC/MN members. Lunch is being provided by Simpson Strong-Tie Company \n\n\n\n* NOTE: To the best of our knowledge\, this program meets the requirements of continuing education as outlined by the Minnesota Board of Registration and should count as 1.5 PDH or .15 CEU.  Certificates will be distributed to those in attendance immediately following the seminar.
X-ALT-DESC;FMTTYPE=text/html:<p><span style="font-family:arial\,sans-serif\;"><span style="font-size:10.0pt\;">If you work with concrete\, you know that cracks are a fact of life. Cracks in concrete can appear in slabs\, walls\, or beams. Although they can be harmless\, some cracks can lead to other\, larger problems unless they are repaired. This is especially the case when there is water present. A solution for repairing wet or leaking cracks is to inject with polyurethane expansion resins\, or sometimes referred to as chemical grouts. For years now\, polyurethane grouts have been used to seal cracks in potable water tanks\, waste water treatment plants\, below grade walls\, large diameter pipes\, floors\, dams\, elevator pits\, and swimming pools. While the use of these materials in the construction community is becoming more common\, there are still many engineers\, contractors\, and owners seeking additional information about them.</span></span><br />\n<br />\n<span style="font-family:arial\,sans-serif\;"><span style="font-size:10.0pt\;">This presentation will be focused on the following topics:</span></span></p>\n\n<ul>\n	<li><span style="font-family:arial\,sans-serif\;"><span style="font-size:10.0pt\;">Advantages of Polyurethane Expansion Resins versus Conventional Repairs</span></span></li>\n	<li><span style="font-family:arial\,sans-serif\;"><span style="font-size:10.0pt\;">Types of Polyurethane Expansion Resins</span></span></li>\n	<li><span style="font-family:arial\,sans-serif\;"><span style="font-size:10.0pt\;">Material Properties and Advantages</span></span></li>\n	<li><span style="font-family:arial\,sans-serif\;"><span style="font-size:10.0pt\;">Potential Uses</span></span></li>\n	<li><span style="font-family:arial\,sans-serif\;"><span style="font-size:10.0pt\;">Installation Procedures</span></span></li>\n	<li><span style="font-family:arial\,sans-serif\;"><span style="font-size:10.0pt\;">Project Profiles and Examples</span></span></li>\n	<li><span style="font-family:arial\,sans-serif\;"><span style="font-size:10.0pt\;">No-Cost Technical Services</span></span></li>\n</ul>\n<strong><span style="font-family:arial\,sans-serif\;"><span style="font-size:10.0pt\;">Speaker: H. Michael Simpson has spent the past 45 year (40 years with Fox Industries\, Inc. and 5 years with Simpson Strong-Tie) working with contractors\, engineers\, and owners on specifications\, along with on-site training in the use of the expandable polyurethane resins to seal active water leaks\, stabilize surrounding soil\, and prevent leakage in the future.&nbsp\;</span></span></strong><br />\n<br />\nThis program is free to ACEC/MN members. Lunch is being provided by Simpson Strong-Tie Company&nbsp\;<br />\n<br />\n<span style="font-size:12px\;"><strong><em><span style="font-family:arial\,sans-serif\;">* NOTE: </span></em></strong><em><span style="font-family:arial\,sans-serif\;">To the best of our knowledge\, this program meets the requirements of continuing education as outlined by the Minnesota Board of Registration and should <span style="color:black\;">count as 1.5 PDH or .15 CEU</span>.&nbsp\; Certificates will be distributed to those in attendance immediately following the seminar.&nbsp\;</span></em></span><br />\n&nbsp\;
LOCATION:Marriott Minneapolis West 9960 Wayzata Blvd\, MN Minnetonka (952/544-4400) (Located on the north frontage road of I-394 between Hwy 169 & Hopkins Crossroad directly across from the ACEC/MN office)
UID:e.9128.1107
SEQUENCE:3
DTSTAMP:20260422T045100Z
URL:http://cecm.memberzone.com/events/details/repair-of-wet-or-leaking-cracks-in-concrete-with-polyurethane-injection-expansion-resins-1107
END:VEVENT

END:VCALENDAR
