BEGIN:VCALENDAR
VERSION:2.0
PRODID:-//ChamberMaster//Event Calendar 2.0//EN
METHOD:PUBLISH
X-PUBLISHED-TTL:P3D
REFRESH-INTERVAL:P3D
CALSCALE:GREGORIAN
BEGIN:VEVENT
DTSTART;VALUE=DATE:20140809
DTEND;VALUE=DATE:20140810
TRANSP:TRANSPARENT
X-MICROSOFT-CDO-ALLDAYEVENT:TRUE
SUMMARY:Scholarship Fund Softball Tournament
DESCRIPTION:We'll be back at Dred Scott again this year which means the tournament shall be limited to the first 24 teams!\n\n \n\nThis annual event will take place on Saturday\, August 9th\, at Dred Scott in Bloomington. This event raises funds for scholarships that are awarded each year to deserving Minnesota engineering students. The entry fee for members is $230 for members and $460 for non-members. Concessions will be available through the Jaycees. If your firm would like to participate in the tournament\, contact Melissa Langowski Melissa@acecmn.org at 952-593-5533.\n\n \n\nACEC/MN worked with the Kasma family to remember "Dewey" by naming the yearly softball scholarship fundraiser after him.  In return\, the family has made a donation in memory of Dewey that will be added to the ACEC Scholarship Fund. DuWayne "Dewey" Kasma was a registered civil engineer.  He graduated from the University of Minnesota and worked his entire career at TKDA from 1963 until his death at age 48 in 1988.  He managed the Municipal Department from 1968 to 1976\, established TKDA's Marketing Department and was named Vice President and a member of the Board of Directors in 1978.  He was a member of ACEC\, MPWA\, CEAM and MSPE.
X-ALT-DESC;FMTTYPE=text/html:<span style="color:black\;"><span style="font-family:arial\,sans-serif\;"><span style="font-size:10.0pt\;">We&rsquo\;ll be back at Dred Scott again this year which means the tournament shall be&nbsp\;limited to the first 24 teams!</span></span></span><br />\n&nbsp\;<br />\n<span style="color:black\;"><span style="font-family:arial\,sans-serif\;"><span style="font-size:10.0pt\;">This annual event will take place on Saturday\, August 9<sup>th</sup>\, at Dred Scott in Bloomington. This event raises funds for scholarships that are awarded each year to deserving Minnesota engineering students<em>.</em> The entry fee for members is <span style="color:black\;"><span style="font-family:arial\,sans-serif\;">$230 for members and $460 for non-members</span></span></span></span></span><span style="color:black\;"><span style="font-size:10.0pt\;">. </span></span><span style="font-size:10.0pt\;">Concessions will be available through the Jaycees.</span><span style="color:black\;"><span style="font-family:arial\,sans-serif\;"><span style="font-size:10.0pt\;"> If your firm would like to participate in the tournament\, contact Melissa Langowski <a href="mailto:Melissa@acecmn.org"><span style="color:black\;">Melissa@acecmn.org</span></a> at 952-593-5533.</span></span></span><br />\n&nbsp\;<br />\n<span style="color:black\;"><span style="font-family:arial\,sans-serif\;"><span style="font-size:10.0pt\;">ACEC/MN worked with the Kasma family to remember &ldquo\;Dewey&rdquo\; by naming the yearly softball scholarship fundraiser after him.&nbsp\; In return\, the family has made a donation in memory of Dewey that will be added to the ACEC Scholarship Fund. DuWayne &ldquo\;Dewey&rdquo\; Kasma was a registered civil engineer.&nbsp\; He graduated from the University of Minnesota and worked his entire career at TKDA from 1963 until his death at age 48 in 1988.&nbsp\; He managed the Municipal Department from 1968 to 1976\, established TKDA&rsquo\;s Marketing Department and was named Vice President and a member of the Board of Directors in 1978.&nbsp\; He was a member of ACEC\, MPWA\, CEAM and MSPE.&nbsp\; </span></span></span><br />\n&nbsp\;
LOCATION:Dred Scott Fields in Bloomington 10820 Bloomington Ferry Rd\, Bloomington\, MN 55431
UID:e.9128.869
SEQUENCE:3
DTSTAMP:20260424T155211Z
URL:http://cecm.memberzone.com/events/details/scholarship-fund-softball-tournament-08-09-2014-869
END:VEVENT

END:VCALENDAR
