BEGIN:VCALENDAR
VERSION:2.0
PRODID:-//ChamberMaster//Event Calendar 2.0//EN
METHOD:PUBLISH
X-PUBLISHED-TTL:P3D
REFRESH-INTERVAL:P3D
CALSCALE:GREGORIAN
BEGIN:VEVENT
DTSTART:20181116T180000Z
DTEND:20181116T190000Z
X-MICROSOFT-CDO-ALLDAYEVENT:FALSE
SUMMARY:Self-Consolidating Concrete in Precast Production
DESCRIPTION:The presentation will discuss the difference between self-consolidating concrete (SCC) mix design versus standard wet cast and dry cast mixes used in precast construction. The presentation will also highlight the use of this type of concrete in a unique project located in Hibbing\, MN where box culvert sections were used as pedestrian tunnels and "look-out" points for the Hull Rust Mine visitors center.\n\nTopics to be discussed include:\n\n \n\n	Precast construction basics and the box culvert production process\n	General mix design characteristics and key properties for long-term performance\n	Self-consolidating concrete technology overview and comparison \n	Uses and applications for SCC mixes in precast\n	Hibbing Hull-Rust Mine View project overview and the unique application of precast box culverts.\n\n \n\nSpeakers:\n\n-  Riley Dvorak is the technical resource engineer for Forterra in the MN region serving as the liaison between Forterra and the design community. He graduated with a civil engineering degree from Minnesota State University\, Mankato. Riley has been widely involved in the precast industry since beginning his venture with Forterra in 2012. \n\n-  John Kallemeyn is the materials and quality engineer for Forterra in the Midwest North regions serving as technical support for the plants and customers. He graduated with a chemical engineering degree from University of Minnesota\, Duluth. John has been developing precast concrete since 2009.
X-ALT-DESC;FMTTYPE=text/html:<span style="color:black\;"><span style="font-family:arial\,sans-serif\;"><span style="font-size:10.0pt\;">The presentation will discuss the difference between self-consolidating concrete (SCC) mix design versus standard wet cast and dry cast mixes used in precast construction. The presentation will also highlight the use of this type of concrete in a unique project located in Hibbing\, MN where box culvert sections were used as pedestrian tunnels and &ldquo\;look-out&rdquo\; points for the Hull Rust Mine visitors center.</span></span></span><br />\n<span style="color:black\;"><span style="font-family:arial\,sans-serif\;"><span style="font-size:10.0pt\;">Topics to be discussed include:</span></span></span><br />\n&nbsp\;\n<ul>\n	<li style="color:black\;"><span style="font-family:arial\,sans-serif\;"><span style="font-size:10.0pt\;">Precast construction basics and the box culvert production process</span></span></li>\n	<li style="color:black\;"><span style="font-family:arial\,sans-serif\;"><span style="font-size:10.0pt\;">General mix design characteristics and key properties for long-term performance</span></span></li>\n	<li style="color:black\;"><span style="font-family:arial\,sans-serif\;"><span style="font-size:10.0pt\;">Self-consolidating concrete technology overview and comparison </span></span></li>\n	<li style="color:black\;"><span style="font-family:arial\,sans-serif\;"><span style="font-size:10.0pt\;">Uses and applications for SCC mixes in precast</span></span></li>\n	<li style="color:black\;"><span style="font-family:arial\,sans-serif\;"><span style="font-size:10.0pt\;">Hibbing Hull-Rust Mine View project overview and the unique application of precast box culverts.</span></span></li>\n</ul>\n&nbsp\;<br />\n<strong><span style="font-family:arial\,sans-serif\;"><span style="font-size:10.0pt\;">Speakers:</span></span></strong><br />\n<span style="font-family:arial\,sans-serif\;"><span style="font-size:10.0pt\;">-&nbsp\; Riley Dvorak is the technical resource engineer for Forterra in the MN region serving as the liaison between Forterra and the design community. He graduated with a civil engineering degree from Minnesota State University\, Mankato. Riley has been widely involved in the precast industry since beginning his venture with Forterra in 2012. </span></span><br />\n<span style="font-family:arial\,sans-serif\;"><span style="font-size:10.0pt\;">-&nbsp\; John Kallemeyn is the materials and quality engineer for Forterra in the Midwest North regions serving as technical support for the plants and customers. He graduated with a chemical engineering degree from University of Minnesota\, Duluth. John has been developing precast concrete since 2009.</span></span>
LOCATION:Marriott Minneapolis West 9960 Wayzata Blvd\, MN Minnetonka (952/544-4400) (Located on the north frontage road of I-394 between Hwy 169 & Hopkins Crossroad directly across from the ACEC/MN office)
UID:e.9128.1318
SEQUENCE:3
DTSTAMP:20260420T054959Z
URL:http://cecm.memberzone.com/events/details/self-consolidating-concrete-in-precast-production-1318
END:VEVENT

END:VCALENDAR
