BEGIN:VCALENDAR
VERSION:2.0
PRODID:-//ChamberMaster//Event Calendar 2.0//EN
METHOD:PUBLISH
X-PUBLISHED-TTL:P3D
REFRESH-INTERVAL:P3D
CALSCALE:GREGORIAN
BEGIN:VEVENT
DTSTART:20171130T220000Z
DTEND:20171201T000000Z
X-MICROSOFT-CDO-ALLDAYEVENT:FALSE
SUMMARY:Simpson Strong-Tie Hands-On Presentation
DESCRIPTION:Register today for the upcoming presentation sponsored by the ACEC/MN Emerging Professionals on Thursday\, November 30 at 4:00 pm at Simpson Strong-Tie in Eagan. A social hour will follow the presentation at Bald Man Brewing (2020 Silver Bell Road\, #25 in Eagan\, MN.\n\n \n\nSimpson Strong-Tie\n\n3711 Kennebec Drive\, Suite 700 in Eagan\, MN\n\n \n\nPlease RSVP to Stefanie Massignan by Tuesday\, November 28 at smassignan@amengtest.com or by completing this form. Find more information here.
X-ALT-DESC;FMTTYPE=text/html:<span style="color:black\;"><span style="font-family:arial\,sans-serif\;"><span style="font-size:10.0pt\;">Register today for the upcoming presentation sponsored by the ACEC/MN Emerging Professionals on Thursday\, November 30 at 4:00 pm at Simpson Strong-Tie in Eagan. A social hour will follow the presentation at Bald Man Brewing (2020 Silver Bell Road\, #25 in Eagan\, MN.</span></span></span><br />\n&nbsp\;<br />\n<span style="color:black\;"><span style="font-family:arial\,sans-serif\;"><span style="font-size:10.0pt\;">Simpson Strong-Tie</span></span></span><br />\n<span style="color:black\;"><span style="font-family:arial\,sans-serif\;"><span style="font-size:10.0pt\;">3711 Kennebec Drive\, Suite 700 in Eagan\, MN</span></span></span><br />\n&nbsp\;<br />\n<span style="color:black\;"><span style="font-family:arial\,sans-serif\;"><span style="font-size:10.0pt\;">Please RSVP to Stefanie Massignan by Tuesday\, November 28 at <a href="mailto:smassignan@amengtest.com">smassignan@amengtest.com</a> or by completing this <a href="https://docs.google.com/forms/d/e/1FAIpQLSe-PGeJzFK6Ic1pbqkjiVZ0rSYAHybM4ooL8NMgEwVOdAQu_g/viewform">form</a>. Find more information <a href="http://96bda424cfcc34d9dd1a-0a7f10f87519dba22d2dbc6233a731e5.r41.cf2.rackcdn.com/acecmn/Simpson_Strong-Tie_Tour.pdf">here</a>.&nbsp\;</span></span></span>
LOCATION:Simpson Strong-Tie 3711 Kennebec Drive\, Suite 700 in Eagan\, MN Bald Man Brewing 2020 Silver Bell Road\, #25 in Eagan\, MN
UID:e.9128.1248
SEQUENCE:3
DTSTAMP:20260421T054645Z
URL:http://cecm.memberzone.com/events/details/simpson-strong-tie-hands-on-presentation-1248
END:VEVENT

END:VCALENDAR
