BEGIN:VCALENDAR
VERSION:2.0
PRODID:-//ChamberMaster//Event Calendar 2.0//EN
METHOD:PUBLISH
X-PUBLISHED-TTL:P3D
REFRESH-INTERVAL:P3D
CALSCALE:GREGORIAN
BEGIN:VEVENT
DTSTART;VALUE=DATE:20130408
DTEND;VALUE=DATE:20130409
TRANSP:TRANSPARENT
X-MICROSOFT-CDO-ALLDAYEVENT:TRUE
SUMMARY:So Much Technology! Managing Information Effectively
DESCRIPTION:Mike Anders President of Agile Frameworks and CIO of Braun Intertec
X-ALT-DESC;FMTTYPE=text/html:Mike Anders President of Agile Frameworks and CIO of Braun Intertec
LOCATION:Marriott Minneapolis West Minnetonka\, MN
UID:e.9128.225
SEQUENCE:3
DTSTAMP:20260426T041412Z
URL:http://cecm.memberzone.com/events/details/so-much-technology-managing-information-effectively-04-08-2013-225
END:VEVENT

END:VCALENDAR
