BEGIN:VCALENDAR
VERSION:2.0
PRODID:-//ChamberMaster//Event Calendar 2.0//EN
METHOD:PUBLISH
X-PUBLISHED-TTL:P3D
REFRESH-INTERVAL:P3D
CALSCALE:GREGORIAN
BEGIN:VEVENT
DTSTART:20161107T173000Z
DTEND:20161107T193000Z
X-MICROSOFT-CDO-ALLDAYEVENT:FALSE
SUMMARY:Spotlight on the City of St. Paul & St. Paul Port Authority
DESCRIPTION:The City of St. Paul and the St. Paul Port Authority will be joining us for our November monthly meeting to share what is new and exciting in our Capital City. Join us to learn more about:\n\n  Current projects in St. Paul's pipeline\n\n  Long-term construction plans (3-5 years)\n\n  Future challenges\n\n  Procurement process\n\n  New design standards\n\n  Intergovernmental agreements\n\n\n\nPresenter Bio(s):\n\nLee Krueger\, St. Paul Port Authority  Lee Krueger began with the Saint Paul Port Authority in 2012 and was promoted to president in 2016. Lee brings to this role 30+ years' experience in the commercial real estate industry. Lee earned his bachelor's degree in political science from Moorhead State University and master's degree in planning from the Humphrey Institute at the University of Minnesota. Lee also holds a real estate broker's license in Minnesota. He is also actively involved Minnesota Commercial Real Estate Association and International Council of Shopping Centers.\n\n\n\nKathryn (Kat) Sarnecki\, St. Paul Port Authority Kat joined Saint Paul Port Authority in 2013. In her role as vice president or redevelopment and harbor management\, Kat is focused on maintaining a thriving harbor system in Saint Paul and cleaning contaminated sites to ready them for successful development. Kat brings to this role 10 years of experience as an environmental engineer consultant. She holds a B.S. in civil engineering from Washington University and an M.S. in environmental engineering from the University of Illinois Urbana-Champagne. Kat is certified as a Professional Engineer in Minnesota. \n\n\n\nJonathan Sage-Martinson\, City of Saint Paul\, Minnesota Appointed by the Mayor\, Jonathan serves as the Director of the Department of Planning and Economic Development. This department has operating budget of nearly $10 million\, a program budget of over $60 million\, and a staff of 72. He also serves as the Executive Director of the City's Housing and Redevelopment Authority. His responsibilities include overall direction\, management\, oversight\, and coordination of the City's planning\, housing\, and economic development functions.
X-ALT-DESC;FMTTYPE=text/html:<br />\n<span style="font-family:arial\,sans-serif\;"><span style="font-size:10.0pt\;">The City of St. Paul and the St. Paul Port Authority will be joining us for our November monthly meeting to share what is new and exciting in our Capital City. Join us to learn more about:</span></span><br />\n<span style="font-family:arial\,sans-serif\;"><span style="font-size:10.0pt\;">&bull\; Current projects in St. Paul&rsquo\;s pipeline<br />\n&bull\; Long-term construction plans (3-5 years)<br />\n&bull\; Future challenges<br />\n&bull\; Procurement process<br />\n&bull\; New design standards<br />\n&bull\; Intergovernmental agreements</span></span><br />\n<br />\n<strong><span style="font-family:arial\,sans-serif\;"><span style="font-size:10.0pt\;">Presenter Bio(s):<br />\nLee Krueger\, St. Paul Port Authority&nbsp\; </span></span></strong><span style="font-family:arial\,sans-serif\;"><span style="font-size:10.0pt\;">Lee Krueger began with the <strong>Saint Paul Port Authority</strong> in 2012 and was promoted to <strong>president</strong> in 2016. Lee brings to this role 30+ years&rsquo\; experience in the commercial real estate industry. Lee earned his bachelor&rsquo\;s degree in political science from Moorhead State University and master&rsquo\;s degree in planning from the Humphrey Institute at the University of Minnesota. Lee also holds a real estate broker&rsquo\;s license in Minnesota. He is also actively involved Minnesota Commercial Real Estate Association and International Council of Shopping Centers.<br />\n<br />\n<strong>Kathryn (Kat) Sarnecki\, </strong><strong>St. Paul Port Authority </strong>Kat joined Saint Paul Port Authority in 2013. In her role as <strong>vice president or redevelopment and harbor management</strong>\, Kat is focused on maintaining a thriving harbor system in Saint Paul and cleaning contaminated sites to ready them for successful development. Kat brings to this role 10 years of experience as an environmental engineer consultant. She holds a B.S. in civil engineering from Washington University and an M.S. in environmental engineering from the University of Illinois Urbana-Champagne. Kat is certified as a Professional Engineer in Minnesota. </span></span><br />\n<br />\n<strong><span style="font-family:arial\,sans-serif\;"><span style="font-size:10pt\;">Jonathan Sage-Martinson\, City of Saint Paul\, Minnesota </span></span></strong><span style="font-family:arial\,sans-serif\;"><span style="font-size:10pt\;">Appointed by the Mayor\, Jonathan serves as the <strong>Director of the Department of Planning and Economic Development</strong>. This department has operating budget of nearly $10 million\, a program budget of over $60 million\, and a staff of 72. He also serves as the Executive Director of the City&rsquo\;s Housing and Redevelopment Authority. His responsibilities include overall direction\, management\, oversight\, and coordination of the City&rsquo\;s planning\, housing\, and economic development functions.&nbsp\;</span></span>
LOCATION:Marriott Minneapolis West 9960 Wayzata Blvd.\, Minnetonka\, MN (952/544-4400) (Located on the north frontage road of I-394 between Hwy 169 & Hopkins Crossroad directly across from the ACEC/MN office)
UID:e.9128.1101
SEQUENCE:3
DTSTAMP:20260422T063927Z
URL:http://cecm.memberzone.com/events/details/spotlight-on-the-city-of-st-paul-st-paul-port-authority-1101
END:VEVENT

END:VCALENDAR
