BEGIN:VCALENDAR
VERSION:2.0
PRODID:-//ChamberMaster//Event Calendar 2.0//EN
METHOD:PUBLISH
X-PUBLISHED-TTL:P3D
REFRESH-INTERVAL:P3D
CALSCALE:GREGORIAN
BEGIN:VEVENT
DTSTART:20171116T140000Z
DTEND:20171116T150000Z
X-MICROSOFT-CDO-ALLDAYEVENT:FALSE
SUMMARY:Stormwater Committee
DESCRIPTION:Meetng of the ACEC/MN Stormwater Committee. The group focuses on issues regulatory processes\, legislative issues and other challenges facing firms providing services in this area.
X-ALT-DESC;FMTTYPE=text/html:Meetng of the ACEC/MN Stormwater Committee. The group focuses on issues regulatory processes\, legislative issues and other challenges facing firms providing services in this area.&nbsp\;
LOCATION:ACEC/MN Conference Room 10201 Wayzata Blvd.\, Suite 240 Minnetonka\, MN 55305
UID:e.9128.1239
SEQUENCE:3
DTSTAMP:20260421T054644Z
URL:http://cecm.memberzone.com/events/details/stormwater-committee-1239
END:VEVENT

END:VCALENDAR
