BEGIN:VCALENDAR
VERSION:2.0
PRODID:-//ChamberMaster//Event Calendar 2.0//EN
METHOD:PUBLISH
X-PUBLISHED-TTL:P3D
REFRESH-INTERVAL:P3D
CALSCALE:GREGORIAN
BEGIN:VEVENT
DTSTART:20181016T123000Z
DTEND:20181016T143000Z
X-MICROSOFT-CDO-ALLDAYEVENT:FALSE
SUMMARY:Take the Lead - Keep the Lead: Building Today's Thought Leaders
DESCRIPTION:This presentation focuses on the what\, why\, and how of being an effective leader. You don't have to go far to find a wide variety of research\, resources\, and public opinion as to what leaders are meant to   or should   do. As well\, the same quantity of literature or peer discussion is available to help explain why a leader is in a position of influence and inspiration. And while there is quite a bit of research on how a leader becomes an effective leader\, there is much less research and discussion on how a leader maintains his or her effective leadership practice through an ever-increasing complex\, ambiguous\, and global environment that organizations operate in. Please join Dr. Zwieg Daly as she shares some thoughts on developing ethical leaders and mastering one's leadership discipline. \n\n\n\nThen\, hear from special guest\, Dr. Delores Henderson\, former principal of Hazel Park Preparatory Academy. She will share what it means to be a thought leader based on her experiences and creative programs that have reached hundreds of children. She will offer advice for the engineering community on targeted outreach and ideas to bridge the educational achievement gap. Dr. Henderson has served over 20\,000 students and families during her career. \n\n \n\nBio(s): Dr. Nicole Zwieg Daly\, J.D.\, Ed.D. is the Director of Consulting and Programming at the Center for Ethical Organizations at the University of St. Thomas Opus College of Business. Dr. Zwieg Daly has nearly 20 years of business management\, relationship management\, and organization development experience. She has held a variety of leadership and management roles including serving as the start-up CEO and sole proprietor of a sales and business consulting firm where she worked with international manufacturers and retailers of all sizes\, small firms and Fortune 500 companies alike. She earned her B.A. from the University of St. Thomas (UST) with a double-major in Business Management and Journalism-Public Relations and a doctorate degree in Organization Development & Change from the University of St. Thomas. Full bio\n\n\n\nDr. Delores Henderson is a recently retired school administrator with St. Paul Public Schools. She was the longest sitting administrator in the State of Minnesota\, 46 years. As an employee of St. Paul Public Schools\, she was a teacher\, Administrator on Special Assignment\; Closing the Achievement Gap\, Bases for Decision-Desegregation Plan\, Joint Appointment with the University of Minnesota\, supervisor of teachers\, instrumental in developing various programs such as J.J. Hill Gifted and Talented Magnet\, Capital Hill Gifted Magnet\, and Hazel Park Preparatory Academy International Baccalaureate. Full Bio\n\n\n\nThe Leadership Breakfast Series has been developed for executives and aspiring leaders to further evolve and develop themselves as thought leaders for their firms\, the consulting engineering industry\, and the business community.
X-ALT-DESC;FMTTYPE=text/html:<span style="font-size:14px\;"><span style="color:black\;"><span style="font-family:arial\,sans-serif\;">This presentation focuses on the <em>what\, why\, and how</em> of being an effective leader. You don&rsquo\;t have to go far to find a wide variety of research\, resources\, and public opinion as to what leaders are meant to &ndash\; or should &ndash\; do. As well\, the same quantity of literature or peer discussion is available to help explain <em>why</em> a leader is in a position of influence and inspiration. And while there is quite a bit of research on <em>how </em>a leader becomes an effective leader\, there is much less research and discussion on <em>how</em> a leader maintains his or her effective leadership practice through an ever-increasing complex\, ambiguous\, and global environment that organizations operate in. Please join Dr. Zwieg Daly as she shares some thoughts on developing ethical leaders and mastering one&rsquo\;s leadership discipline. </span></span><br />\n<br />\n<span style="color:black\;"><span style="font-family:arial\,sans-serif\;">Then\, hear from special guest\, Dr. Delores Henderson\, former principal of Hazel Park Preparatory Academy. She will share what it means to be a thought leader based on her experiences and creative programs that have reached hundreds of children. She will offer advice for the engineering community on targeted outreach and ideas to bridge the educational achievement gap. </span></span><span style="font-family:arial\,sans-serif\;">Dr. Henderson has served over 20\,000 students and families during her career.&nbsp\;</span><br />\n&nbsp\;<br />\n<strong><span style="font-family:arial\,sans-serif\;">Bio(s)<span style="color:black\;">:</span></span></strong> <em><strong><span style="font-family:arial\,sans-serif\;">Dr. Nicole Zwieg Daly\, </span></strong></em><em><span style="font-family:arial\,sans-serif\;">J.D.\, Ed.D. is the Director of Consulting and Programming </span></em><span style="color:black\;"><span style="font-family:arial\,sans-serif\;">at the Center for Ethical Organizations at the University of St. Thomas Opus&nbsp\;College of Business. Dr. Zwieg Daly has nearly 20 years of business management\, relationship management\, and organization development experience.&nbsp\;She has held a variety of leadership and management roles including serving as the start-up CEO and sole proprietor of a sales and business consulting firm where she worked with international manufacturers and retailers of all sizes\,&nbsp\;small firms and Fortune 500 companies alike.&nbsp\;She earned her B.A. from the University of St. Thomas (UST) with a double-major in Business Management and Journalism-Public Relations and a doctorate degree&nbsp\;in Organization Development &amp\; Change from the University of St. Thomas.</span></span><span style="font-family:arial\,sans-serif\;"> <a href="https://wordpressstorageaccount.blob.core.windows.net/wp-media/wp-content/uploads/sites/649/2018/10/Dr-Zwieg-Bio.pdf">Full bio</a></span><br />\n<br />\n<strong><span style="font-family:arial\,sans-serif\;">Dr. Delores Henderson</span></strong><span style="font-family:arial\,sans-serif\;"> is a recently retired school administrator with St. Paul Public Schools.&nbsp\;She was the longest sitting administrator in the State of Minnesota\, 46 years.&nbsp\;As an employee of St. Paul Public Schools\, she was a teacher\, Administrator on Special Assignment\; Closing the Achievement Gap\, Bases for Decision-Desegregation Plan\, Joint Appointment with the University of Minnesota\, supervisor of teachers\, instrumental in developing various programs such as J.J. Hill Gifted and Talented Magnet\, Capital Hill Gifted Magnet\, and&nbsp\;Hazel Park Preparatory Academy International Baccalaureate. <a href="https://wordpressstorageaccount.blob.core.windows.net/wp-media/wp-content/uploads/sites/649/2018/10/Dr.-Henderson-Bio.pdf">Full Bio</a></span><br />\n<br />\n<font color="#0782c1" face="arial\, sans-serif">The Leadership Breakfast Series has been developed for executives and aspiring leaders to further evolve and develop themselves as thought leaders for their firms\, the consulting engineering industry\, and the business community.</font></span><br />\n&nbsp\;
LOCATION:Golden Valley C.C. 7001 Golden Valley Rd\, Minneapolis\, MN 55427
UID:e.9128.1299
SEQUENCE:3
DTSTAMP:20260420T073611Z
URL:http://cecm.memberzone.com/events/details/take-the-lead-keep-the-lead-building-today-s-thought-leaders-1299
END:VEVENT

END:VCALENDAR
