BEGIN:VCALENDAR
VERSION:2.0
PRODID:-//ChamberMaster//Event Calendar 2.0//EN
METHOD:PUBLISH
X-PUBLISHED-TTL:P3D
REFRESH-INTERVAL:P3D
CALSCALE:GREGORIAN
BEGIN:VEVENT
DTSTART:20190124T180000Z
DTEND:20190124T193000Z
X-MICROSOFT-CDO-ALLDAYEVENT:FALSE
SUMMARY:Transportation Committee Meeting
DESCRIPTION:Regular monthly meeting of the Transportation Committee (typically the 4th Thursday of the Month).
X-ALT-DESC;FMTTYPE=text/html:Regular monthly meeting of the Transportation Committee (typically the 4th Thursday of the Month).
LOCATION:ACEC/MN Conference Room 10201 Wayzata Blvd.\, Suite 240 Minnetonka\, MN 55305 952-593-553
UID:e.9128.1305
SEQUENCE:3
DTSTAMP:20260420T020956Z
URL:http://cecm.memberzone.com/events/details/transportation-committee-meeting-01-24-2019-1305
END:VEVENT

END:VCALENDAR
