BEGIN:VCALENDAR
VERSION:2.0
PRODID:-//ChamberMaster//Event Calendar 2.0//EN
METHOD:PUBLISH
X-PUBLISHED-TTL:P3D
REFRESH-INTERVAL:P3D
CALSCALE:GREGORIAN
BEGIN:VEVENT
DTSTART:20181129T180000Z
DTEND:20181129T193000Z
X-MICROSOFT-CDO-ALLDAYEVENT:FALSE
SUMMARY:Transportation Committee Meeting
DESCRIPTION:Regular monthly meeting of the Transportation Committee (typically the 4th Thursday of the Month).
X-ALT-DESC;FMTTYPE=text/html:Regular monthly meeting of the Transportation Committee (typically the 4th Thursday of the Month).
LOCATION:ACEC/MN Conference Room 10201 Wayzata Blvd.\, Suite 240 Minnetonka\, MN 55305 952-593-553
UID:e.9128.1303
SEQUENCE:3
DTSTAMP:20260420T055156Z
URL:http://cecm.memberzone.com/events/details/transportation-committee-meeting-11-22-2018-1303
END:VEVENT

END:VCALENDAR
