BEGIN:VCALENDAR
VERSION:2.0
PRODID:-//ChamberMaster//Event Calendar 2.0//EN
METHOD:PUBLISH
X-PUBLISHED-TTL:P3D
REFRESH-INTERVAL:P3D
CALSCALE:GREGORIAN
BEGIN:VEVENT
DTSTART:20190425T170000Z
DTEND:20190425T183000Z
X-MICROSOFT-CDO-ALLDAYEVENT:FALSE
SUMMARY:Transportation Committee Meeting - Canceled
DESCRIPTION:This meeting has been canceled. See you next month on May 23.
X-ALT-DESC;FMTTYPE=text/html:<p>This meeting has been canceled. See you next month on May 23.</p>\n
LOCATION:ACEC/MN Conference Room 10201 Wayzata Blvd.\, Suite 240 Minnetonka\, MN 55305 952-593-553
UID:e.9128.1308
SEQUENCE:3
DTSTAMP:20260419T220341Z
URL:http://cecm.memberzone.com/events/details/transportation-committee-meeting-canceled-1308
END:VEVENT

END:VCALENDAR
