BEGIN:VCALENDAR
VERSION:2.0
PRODID:-//ChamberMaster//Event Calendar 2.0//EN
METHOD:PUBLISH
X-PUBLISHED-TTL:P3D
REFRESH-INTERVAL:P3D
CALSCALE:GREGORIAN
BEGIN:VEVENT
DTSTART:20140411T163000Z
DTEND:20140411T180000Z
X-MICROSOFT-CDO-ALLDAYEVENT:FALSE
SUMMARY:Underpinning for Basement Addition at an Operating Factory
DESCRIPTION:As part of a plant addition and upgrade\, an out-of-state manufacturer needed to build a basement inside an existing facility while maintaining production directly adjacent to the project. This presentation will illustrate the innovative application of proven techniques used to excavate up to 20 feet below the existing slab inside the building.\n\n\n\nUnderpinning techniques used in this project will be discussed including soil solidification\, soil nail walls and tie-back anchors. This presentation will describe the advantages of each system and explain the rational for its selection\, and will also highlight the benefits of working with a qualified specialty contractor in a design/build delivery system.\n\n\n\nSpeaker: Gregory A. Norris LEED AP\, Project Manager for Veit Companies\, brings over 30 years of diverse and innovative geotechnical construction and project management experience from the private sector and the Army Corps of Engineers.
X-ALT-DESC;FMTTYPE=text/html:<span style="font-family:arial\,sans-serif\;"><span style="font-size:11.0pt\;">As part of a plant addition and upgrade\, an out-of-state manufacturer needed to build a basement inside an existing facility while maintaining production directly adjacent to the project. This presentation will illustrate the innovative application of proven techniques used to excavate up to 20 feet below the existing slab inside the building.<br />\n<br />\nUnderpinning techniques used in this project will be discussed including soil solidification\, soil nail walls and tie-back anchors. This presentation will describe the advantages of each system and explain the rational for its selection\, and will also highlight the benefits of working with a qualified specialty contractor in a design/build delivery system.</span></span><br />\n<br />\n<strong><span style="font-family:arial\,sans-serif\;"><span style="font-size:11.0pt\;">Speaker</span></span></strong><span style="font-family:arial\,sans-serif\;"><span style="font-size:11.0pt\;">:&nbsp\;<em><span style="color:black\;">Gregory A. Norris LEED AP\, Project Manager for Veit Companies\, brings over 30 years of diverse and innovative geotechnical construction and project management experience from the private sector and the Army Corps of Engineers.</span></em></span></span><br />\n&nbsp\;
LOCATION:Marriott Minneapolis West 9960 Wayzata Blvd\, MN Minnetonka (952/544-4400) (Located on the north frontage road of I-394 between Hwy 169 & Hopkins Crossroad directly across from the ACEC/MN office)
UID:e.9128.862
SEQUENCE:3
DTSTAMP:20260424T214547Z
URL:http://cecm.memberzone.com/events/details/underpinning-for-basement-addition-at-an-operating-factory-04-11-2014-862
END:VEVENT

END:VCALENDAR
