BEGIN:VCALENDAR
VERSION:2.0
PRODID:-//ChamberMaster//Event Calendar 2.0//EN
METHOD:PUBLISH
X-PUBLISHED-TTL:P3D
REFRESH-INTERVAL:P3D
CALSCALE:GREGORIAN
BEGIN:VEVENT
DTSTART:20150417T163000Z
DTEND:20150417T180000Z
X-MICROSOFT-CDO-ALLDAYEVENT:FALSE
SUMMARY:What Contractors Would Like Engineers to be Aware Of
DESCRIPTION:The construction world is busy and fast-paced.  With the speed in which we move there can be a loss of communication and naturally\; a loss of perspective. Greg Norris from Veit & Company will share a contractor's point of view of how to bridge the communication and efficiency gap that exists between contractor and engineer to improve work flow. Topics include: specifications\, impact of tolerances\, safety factors\, and more.     \n\n \n\nSpeaker: Gregory A. Norris LEED AP\, Project Manager for Veit Companies\, brings over 30 years of diverse and innovative geotechnical construction and project management experience from the private sector and the Army Corps of Engineers.
X-ALT-DESC;FMTTYPE=text/html:<br />\n<span style="font-family:arial\,sans-serif\;"><span style="font-size:11.0pt\;">The construction world is busy and fast-paced.&nbsp\; With the speed in which we move there can be a loss of communication and naturally\; a loss of perspective. Greg Norris from Veit &amp\; Company will share a contractor&rsquo\;s point of view of how to bridge the communication and efficiency gap that exists between contractor and engineer to improve work flow. Topics include: specifications\, impact of tolerances\, safety factors\, and more.&nbsp\;&nbsp\; &nbsp\;&nbsp\;</span></span><br />\n&nbsp\;<br />\n<strong><span style="font-family:arial\,sans-serif\;"><span style="font-size:11.0pt\;">Speaker</span></span></strong><span style="font-family:arial\,sans-serif\;"><span style="font-size:11.0pt\;">:&nbsp\;<em><span style="color:black\;">Gregory A. Norris LEED AP\, Project Manager for Veit Companies\, brings over 30 years of diverse and innovative geotechnical construction and project management experience from the private sector and the Army Corps of Engineers.</span></em></span></span><br />\n&nbsp\;
LOCATION:Marriott Minneapolis West 9960 Wayzata Blvd\, MN Minnetonka (952/544-4400) (Located on the north frontage road of I-394 between Hwy 169 & Hopkins Crossroad directly across from the ACEC/MN office)
UID:e.9128.928
SEQUENCE:3
DTSTAMP:20260423T224344Z
URL:http://cecm.memberzone.com/events/details/what-contractors-would-like-engineers-to-be-aware-of-04-17-2015-928
END:VEVENT

END:VCALENDAR
