BEGIN:VCALENDAR
VERSION:2.0
PRODID:-//ChamberMaster//Event Calendar 2.0//EN
METHOD:PUBLISH
X-PUBLISHED-TTL:P3D
REFRESH-INTERVAL:P3D
CALSCALE:GREGORIAN
BEGIN:VEVENT
DTSTART:20170123T173000Z
DTEND:20170123T190000Z
X-MICROSOFT-CDO-ALLDAYEVENT:FALSE
SUMMARY:Women In Engineering: Compensation/Promotion/Career Planning: Panel Discussion
DESCRIPTION:Our panel\, based on their own personal experiences\, will have a moderated conversation that gives women tips and tools to advance in their careers. With the shortage of engineers in the workforce\, especially women\, you may hear that compensation is an area of interest for firms\, but what does that really mean?  The panel will discuss this and several other questions such as: Do promotions just happen?  Do they just happen to other people?  How can you influence your own career path?  What does career planning really mean? Are your plans and goals reasonable?\n\n\n\nPanel: The panel consists of HR representatives and engineers that also support the HR role by being a principal/owner of their firm. They will share their knowledge\, experience and expertise with the group\, and include. Robin Lang of HGA\, Stephanie Young of Mattson Macdonald Young\, Beth Clubb of EOR and Dyann Turner of AET.\n\n\n\nModerated By: Ann Johnson\, owner of her own firm\, instructor at the University of Minnesota\, and member of the ACEC/MN Workforce Development committee.
X-ALT-DESC;FMTTYPE=text/html:<p><span style="color:#1A1A1A\;"><span style="font-family:arial\,sans-serif\;"><span style="font-size:11.0pt\;">Our panel\, based on their own personal experiences\, will have a moderated conversation that gives women tips and tools to advance in their careers. With the shortage of engineers in the workforce\, especially women\, you may hear that compensation is an area of interest for firms\, but what does that really mean?&nbsp\; The panel will discuss this and several other questions such as: Do promotions just happen?&nbsp\; Do they just happen to other people?&nbsp\; How can you influence your own career path?&nbsp\; What does career planning really mean? Are your plans and goals reasonable?</span></span></span><br />\n<br />\n<strong><span style="font-family:arial\,sans-serif\;"><span style="font-size:11pt\;">Panel:</span></span></strong><span style="color:#1A1A1A\;"><span style="font-family:arial\,sans-serif\;"><span style="font-size:11.0pt\;"> The panel consists of HR representatives and engineers that also support the HR role by being a principal/owner of their firm. They will share their knowledge\, experience and expertise with the group\, and include. </span></span></span><span style="font-family:arial\,sans-serif\;"><span style="font-size:11.0pt\;">Robin Lang of HGA\, Stephanie Young of Mattson Macdonald Young\, Beth Clubb of EOR and Dyann Turner of AET.</span></span><br />\n<br />\n<strong><span style="font-family:arial\,sans-serif\;"><span style="font-size:11.0pt\;">Moderated By:</span></span></strong><span style="font-family:arial\,sans-serif\;"><span style="font-size:11.0pt\;"> Ann Johnson\, owner of her own firm\, instructor at the University of Minnesota\, and member of the ACEC/MN Workforce Development committee.</span></span></p>\n
LOCATION:Stantec 2335 Highway 36 W\, Saint Paul (651) 636-4600
UID:e.9128.1121
SEQUENCE:3
DTSTAMP:20260422T025605Z
URL:http://cecm.memberzone.com/events/details/women-in-engineering-compensation-promotion-career-planning-panel-discussion-1121
END:VEVENT

END:VCALENDAR
