BEGIN:VCALENDAR
VERSION:2.0
PRODID:-//ChamberMaster//Event Calendar 2.0//EN
METHOD:PUBLISH
X-PUBLISHED-TTL:P3D
REFRESH-INTERVAL:P3D
CALSCALE:GREGORIAN
BEGIN:VEVENT
DTSTART:20180129T173000Z
DTEND:20180129T190000Z
X-MICROSOFT-CDO-ALLDAYEVENT:FALSE
SUMMARY:Women Making a Difference: Claiming Your Power in Ethical Leadership
DESCRIPTION:This one-hour session will look at leadership roles and responsibilities from the perspective of professional women and their ethical code\, and provide insights and inspiration for making a difference in the workplace and the greater community.\n\n \n\nPresenter: Attorney Kristine A. Kubes is principal of Kubes Law Office\, PLLC\, serving design and construction professionals.  Services include defending clients against professional liability and general liability claims\, contracts\, addressing project-management\, risk-management\, and payment issues\, prosecuting mechanic's liens\, and entity set-up. Kristine is a qualified neutral who mediates construction and design disputes during and after the project. Kristine serves as a Board Member of ACEC-MN. She serves in leadership of the American Bar Association Forum on Construction Law and served as a public member on the MN Board of AELSLAGID from 2006-2013\, during which she served two terms as Board Chair from 2009-2011.
X-ALT-DESC;FMTTYPE=text/html:<span style="font-family:arial\,sans-serif\;">This one-hour session will look at leadership roles and responsibilities from the perspective of professional women and their ethical code\, and provide insights and inspiration for making a difference in the workplace and the greater community.</span><br />\n&nbsp\;<br />\n<strong><span style="font-family:arial\,sans-serif\;">Presenter:</span></strong><span style="font-family:arial\,sans-serif\;"> Attorney <strong>Kristine A. Kubes </strong>is principal of Kubes Law Office\, PLLC\, serving design and construction professionals.&nbsp\; Services include defending clients against professional liability and general liability claims\, contracts\, addressing project-management\, risk-management\, and payment issues\, prosecuting mechanic&rsquo\;s liens\, and entity set-up.&nbsp\;Kristine is a qualified neutral who mediates construction and design disputes during and after the project.&nbsp\;Kristine serves as a Board Member of ACEC-MN. She serves in leadership of the American Bar Association Forum on Construction Law and served as a public member on the MN Board of AELSLAGID from 2006-2013\, during which she served two terms as Board Chair from 2009-2011.</span>
LOCATION:Stantec 2335 Highway 36 W Saint Paul\, MN (651) 636-4600
UID:e.9128.1250
SEQUENCE:3
DTSTAMP:20260421T022848Z
URL:http://cecm.memberzone.com/events/details/women-making-a-difference-claiming-your-power-in-ethical-leadership-1250
END:VEVENT

END:VCALENDAR
